BEGIN:VCALENDAR
VERSION:2.0
PRODID:Imitheme.com 
BEGIN:VEVENT
UID:20260420T14562974687525
DTSTAMP;TZID=UTC:2026-04-20 14:56:29
DTSTART;TZID=America/Los_Angeles:20231122T000000
DTEND;TZID=America/Los_Angeles:20231122T000000
SUMMARY:SPACE GAME: MENTE VACUNA
LOCATION:Carrer de Diego Zaforteza\, 7
DESCRIPTION:Prova el nou joc que ha arribat a Espais Joves per a fer-vos passar una bona estona.
URL:https://espaisjoves.cat/eventer/space-game-mente-vacuna-2/
END:VEVENT
END:VCALENDAR
