BEGIN:VCALENDAR
VERSION:2.0
PRODID:Imitheme.com 
BEGIN:VEVENT
UID:20260425T142113248518352
DTSTAMP;TZID=UTC:2026-04-25 14:21:13
DTSTART;TZID=America/Los_Angeles:20231125T000000
DTEND;TZID=America/Los_Angeles:20231125T000000
SUMMARY:TORNEIG DE MAGIC: CUBE DRAFT
LOCATION:Carrer Pere d’Alcàntara Penya\, 10. Palma
DESCRIPTION:organitzat per Joves Magic, a les 17 h, a l’ESPAI JOVE LLEVANT.
URL:https://espaisjoves.cat/eventer/torneig-de-magic-cube-draft/
END:VEVENT
END:VCALENDAR
