BEGIN:VCALENDAR
VERSION:2.0
PRODID:Imitheme.com 
BEGIN:VEVENT
UID:20260421T101525706440588
DTSTAMP;TZID=UTC:2026-04-21 10:15:25
DTSTART;TZID=America/Los_Angeles:20231111T000000
DTEND;TZID=America/Los_Angeles:20231111T000000
SUMMARY:TALLER D’ARRANJAMENT MUSICAL
LOCATION:Carrer de Felip II\, 19. Palma
DESCRIPTION:Vine a aprendre com donar-li un toc personal a la teva música perquè sigui única amb el taller d’arranjament musical.
URL:https://espaisjoves.cat/eventer/taller-darranjament-musical-2/
END:VEVENT
END:VCALENDAR
