BEGIN:VCALENDAR
VERSION:2.0
PRODID:Imitheme.com 
BEGIN:VEVENT
UID:20260421T101526782593686
DTSTAMP;TZID=UTC:2026-04-21 10:15:26
DTSTART;TZID=America/Los_Angeles:20231111T000000
DTEND;TZID=America/Los_Angeles:20231111T000000
SUMMARY:TROBADA DE MÚSICS
LOCATION:Carrer de Felip II\, 19. Palma
DESCRIPTION:Reuneix-te amb els altres grups d’Espais i comparteix les teves idees i els teus coneixements.
URL:https://espaisjoves.cat/eventer/trobada-de-musics-2/
END:VEVENT
END:VCALENDAR
