BEGIN:VCALENDAR
VERSION:2.0
PRODID:Imitheme.com 
BEGIN:VEVENT
UID:20260421T113240719619269
DTSTAMP;TZID=UTC:2026-04-21 11:32:40
DTSTART;TZID=America/Los_Angeles:20231115T000000
DTEND;TZID=America/Los_Angeles:20231115T000000
SUMMARY:SPACE GAME: MENTE VACUNA
LOCATION:Carrer Pere d’Alcàntara Penya\, 10. Palma
DESCRIPTION:Prova el nou joc que ha arribat a Espais Joves per a fer-vos passar una bona estona.
URL:https://espaisjoves.cat/eventer/space-game-mente-vacuna/
END:VEVENT
END:VCALENDAR
