BEGIN:VCALENDAR
VERSION:2.0
PRODID:Imitheme.com 
BEGIN:VEVENT
UID:20260421T125539545386706
DTSTAMP;TZID=UTC:2026-04-21 12:55:39
DTSTART;TZID=America/Los_Angeles:20231027T000000
DTEND;TZID=America/Los_Angeles:20231027T000000
SUMMARY:ULTIMATE SKILL SMASH BROS
LOCATION:Carrer Pere d’Alcàntara Penya\, 10. Palma
DESCRIPTION:Ultimate Skill és un torneig, organitzat per Fernando Quintero per a ajuntar a la comunitat gamer dels Espais Joves en una tarda entretinguda i competitiva, aquest mes toca Smash Bros a la consola Switch.
URL:https://espaisjoves.cat/eventer/ultimate-skill-smash-bros/
END:VEVENT
END:VCALENDAR
