BEGIN:VCALENDAR
VERSION:2.0
PRODID:Imitheme.com 
BEGIN:VEVENT
UID:20260423T213305106134522
DTSTAMP;TZID=UTC:2026-04-23 21:33:05
DTSTART;TZID=America/Los_Angeles:20230223T000000
DTEND;TZID=America/Los_Angeles:20230223T000000
SUMMARY:TAST DE TEATRE: TEATRE GESTUAL
LOCATION:Carrer de les Corralasses\, 9. Palma
DESCRIPTION:En aquest nou tast podreu conèixer aquest tipus de teatre, el qual es basa en l’ús del llenguatge corporal com a principal mitjà d’expressió a l’escenari.
URL:https://espaisjoves.cat/eventer/tast-de-teatre-teatre-gestual-2/
END:VEVENT
END:VCALENDAR
