BEGIN:VCALENDAR
VERSION:2.0
PRODID:Imitheme.com 
BEGIN:VEVENT
UID:20260421T1132391949129940
DTSTAMP;TZID=UTC:2026-04-21 11:32:39
DTSTART;TZID=America/Los_Angeles:20230913T000000
DTEND;TZID=America/Los_Angeles:20230913T000000
SUMMARY:Permamed: Què és la permacultura?
LOCATION:
DESCRIPTION:
URL:https://espaisjoves.cat/eventer/permamed-que-es-la-permacultura/
END:VEVENT
END:VCALENDAR
