BEGIN:VCALENDAR
VERSION:2.0
PRODID:Imitheme.com 
BEGIN:VEVENT
UID:20260421T1247382054490868
DTSTAMP;TZID=UTC:2026-04-21 12:47:38
DTSTART;TZID=America/Los_Angeles:20230908T000000
DTEND;TZID=America/Los_Angeles:20230908T000000
SUMMARY:TINY DESK, ORGANITZAT PER ZYTE
LOCATION:Carrer de Felip II\, 19. Palma
DESCRIPTION:Actuació musical del grup de música Zyte, en què podràs sentir-los ben a prop.
URL:https://espaisjoves.cat/eventer/tiny-desk-organitzat-per-zyte/
END:VEVENT
END:VCALENDAR
