BEGIN:VCALENDAR
VERSION:2.0
PRODID:Imitheme.com 
BEGIN:VEVENT
UID:20260420T0846041822543505
DTSTAMP;TZID=UTC:2026-04-20 08:46:04
DTSTART;TZID=America/Los_Angeles:20230722T000000
DTEND;TZID=America/Los_Angeles:20230722T000000
SUMMARY:ULTIMATE SKILL: NINTENDO SPORTS
LOCATION:Carrer de Felip II\, 19. Palma
DESCRIPTION:Ultimate Skill és un torneig, organitzat per Fernando Quintero per a ajuntar a la comunitat gamer dels Espais Joves en una tarda entretinguda i esportiva, Nintendo Sports a la consola Switch.
URL:https://espaisjoves.cat/eventer/ultimate-skill-nintendo-sports/
END:VEVENT
END:VCALENDAR
