BEGIN:VCALENDAR
VERSION:2.0
PRODID:Imitheme.com 
BEGIN:VEVENT
UID:20260420T085343394737044
DTSTAMP;TZID=UTC:2026-04-20 08:53:43
DTSTART;TZID=America/Los_Angeles:20230703T000000
DTEND;TZID=America/Los_Angeles:20230703T000000
SUMMARY:FLASHMOB PER A LA SUMMER PARTY
LOCATION:Carrer de Pere Ripoll  i Palou\,  24
DESCRIPTION:Es crearà una coreografia per al i les joves que s\'hi apunten. Es ballarà el dia de la Summer Party.
URL:https://espaisjoves.cat/eventer/flashmob-per-a-la-summer-party/
END:VEVENT
END:VCALENDAR
