BEGIN:VCALENDAR
VERSION:2.0
PRODID:Imitheme.com 
BEGIN:VEVENT
UID:20260420T1318581244219014
DTSTAMP;TZID=UTC:2026-04-20 13:18:58
DTSTART;TZID=America/Los_Angeles:20230708T000000
DTEND;TZID=America/Los_Angeles:20230708T000000
SUMMARY:CREACIÓ DE MERCHANDISING PER ALS GRUPS DE MÚSICA I BALL
LOCATION:Carrer de Felip II\, 19. Palma
DESCRIPTION:En aquest Espai els i les joves hi podran venir a crear les seves ferratines amb el seu logo de grup, amb la nostra nova màquina Silhouette cameo 4.
URL:https://espaisjoves.cat/eventer/creacio-de-merchandising-per-als-grups-de-musica-i-ball/
END:VEVENT
END:VCALENDAR
