BEGIN:VCALENDAR
VERSION:2.0
PRODID:Imitheme.com 
BEGIN:VEVENT
UID:20260420T1142201179029110
DTSTAMP;TZID=UTC:2026-04-20 11:42:20
DTSTART;TZID=America/Los_Angeles:20230707T000000
DTEND;TZID=America/Los_Angeles:20230707T000000
SUMMARY:TALLER HECHOSOECHAS
LOCATION:Carrer de Felip II\, 19. Palma
DESCRIPTION:A través dels Espais Joves i amb la col·laboració de Hechosoechas s\'impartirà un taller on cadascun de vosaltres podrà realitzar les seves pròpies frases d\'una manera creativa.
URL:https://espaisjoves.cat/eventer/taller-hechosoechas/
END:VEVENT
END:VCALENDAR
