BEGIN:VCALENDAR
VERSION:2.0
PRODID:Imitheme.com 
BEGIN:VEVENT
UID:20260420T100744158577792
DTSTAMP;TZID=UTC:2026-04-20 10:07:44
DTSTART;TZID=America/Los_Angeles:20230704T000000
DTEND;TZID=America/Los_Angeles:20230704T000000
SUMMARY:Partida de rol: aventures magiques basat amb JRR Tolkien
LOCATION:Carrer Pere d’Alcàntara Penya\, 10. Palma
DESCRIPTION:Partides de rol sobre Les Aventures en la Terra Mitjana, ambientat en les obres de JRR Tolkien. És un joc amb valors i que fomenta la lectura, millora la capacitat comunicativa, el treball en equip i la resolució de problemes. A més de ser molt divertit.
URL:https://espaisjoves.cat/eventer/partida-de-rol-aventures-magiques-basat-amb-jrr-tolkien/
END:VEVENT
END:VCALENDAR
