BEGIN:VCALENDAR
VERSION:2.0
PRODID:Imitheme.com 
BEGIN:VEVENT
UID:20260420T050447750349594
DTSTAMP;TZID=UTC:2026-04-20 05:04:47
DTSTART;TZID=America/Los_Angeles:20230704T000000
DTEND;TZID=America/Los_Angeles:20230704T000000
SUMMARY:LATINFUSION: Bachata
LOCATION:Carrer de Pere Ripoll  i Palou\,  24
DESCRIPTION:Aquestes seran les dues darreres classes de bachata perquè els i les joves duguin endavant la coreografia apresa durant aquest cicle.   DIES 4 I 11
URL:https://espaisjoves.cat/eventer/latinfusion-bachata/
END:VEVENT
END:VCALENDAR
