BEGIN:VCALENDAR
VERSION:2.0
PRODID:Imitheme.com 
BEGIN:VEVENT
UID:20260422T014133366503401
DTSTAMP;TZID=UTC:2026-04-22 01:41:33
DTSTART;TZID=America/Los_Angeles:20260321T000000
DTEND;TZID=America/Los_Angeles:20260321T000000
SUMMARY:COOK & EAT:  BUBBLE TEA
LOCATION:Carrer de Felip II\, 19. Palma
DESCRIPTION:Si t’agrada la cuina i vols conèixer persones amb els teus mateixos interessos, aquesta és la teva! El mes de desembre tornam amb Cook & Eat, on podràs gaudir de l’experiència gastronòmica. INSCRIPCIONS      
URL:https://espaisjoves.cat/eventer/cook-eat-bubble-tea/
END:VEVENT
END:VCALENDAR
