BEGIN:VCALENDAR
VERSION:2.0
PRODID:Imitheme.com 
BEGIN:VEVENT
UID:20260422T001101402518512
DTSTAMP;TZID=UTC:2026-04-22 00:11:01
DTSTART;TZID=America/Los_Angeles:20260320T000000
DTEND;TZID=America/Los_Angeles:20260320T000000
SUMMARY:FALLES EXPLOSIVES - JOC DE ROL
LOCATION:Carrer Pere d’Alcàntara Penya\, 10. Palma
DESCRIPTION:PQuè fer quan suspens l\'examen d\'ingrés a la Policia? Inflitrar-te en un grup criminal. València es vesteix de gala, les falles adornen la ciutat i, a mtijan celebració, hauràs d\'evitar que el foc sembri el caos. O potser t\'agradaria encendre la metxa? INSCRIPCIONS      
URL:https://espaisjoves.cat/eventer/falles-explosives-joc-de-rol/
END:VEVENT
END:VCALENDAR
