BEGIN:VCALENDAR
VERSION:2.0
PRODID:Imitheme.com 
BEGIN:VEVENT
UID:20260422T1309041503557168
DTSTAMP;TZID=UTC:2026-04-22 13:09:04
DTSTART;TZID=America/Los_Angeles:20260328T000000
DTEND;TZID=America/Los_Angeles:20260328T000000
SUMMARY:ImproLab
LOCATION:Carrer Pere d’Alcàntara Penya\, 10. Palma
DESCRIPTION:Vols experimentar amb la improvisació i deixar volar la teva creativitat? En aquest taller d’impro descobriràs jocs i dinàmiques teatrals per expressar-te, comunicar-te i passar-ho bé en grup. Apunta-t’hi i atreveix-te a improvisar!     INSCRIPCIONS
URL:https://espaisjoves.cat/eventer/improlab-2/
END:VEVENT
END:VCALENDAR
