BEGIN:VCALENDAR
VERSION:2.0
PRODID:Imitheme.com 
BEGIN:VEVENT
UID:20260422T113550936790062
DTSTAMP;TZID=UTC:2026-04-22 11:35:50
DTSTART;TZID=America/Los_Angeles:20260328T000000
DTEND;TZID=America/Los_Angeles:20260328T000000
SUMMARY:TORNEIG DE "TACO GATO CABRA QUESO PIZZA"
LOCATION:Carrer Pere d’Alcàntara Penya\, 10. Palma
DESCRIPTION:Vine a divertir-te i competir en un joc de cartes ràpid i molt dinàmic en el qual hauràs de dir “taco, gato, cabra, queso, pizza” per torns i reaccionar a l\'instant quan la carta coincideixi amb la paraula. Reflexos i concentració ho són tot per a aconseguir la victòria i el premi! Acceptes el repte? INSCRIPCIONS      
URL:https://espaisjoves.cat/eventer/torneig-de-taco-gato-cabra-queso-pizza/
END:VEVENT
END:VCALENDAR
