BEGIN:VCALENDAR
VERSION:2.0
PRODID:Imitheme.com 
BEGIN:VEVENT
UID:20260422T094031588154247
DTSTAMP;TZID=UTC:2026-04-22 09:40:31
DTSTART;TZID=America/Los_Angeles:20260328T000000
DTEND;TZID=America/Los_Angeles:20260328T000000
SUMMARY:INTRODUCCIÓ A  LA CALIGRAFÍA JAPONESA: ESPECIAL PRIMAVERA
LOCATION:Carrer Pere d’Alcàntara Penya\, 10. Palma
DESCRIPTION:Aquesta primavera, deixa que les teves idees floreixin sobre el paper. Et convidam a descobrir la màgia de la cal·ligrafia japonesa en un taller d\'iniciació on aprendràs a traçar els teus primers kanjis inspirats en la primavera. No hi necessites experiència, només ganes de provar una cosa nova, relaxar-te i deixar-te endur per la tinta INSCRIPCIONS      
URL:https://espaisjoves.cat/eventer/introduccio-a-la-caligrafia-japonesa-especial-primavera/
END:VEVENT
END:VCALENDAR
