BEGIN:VCALENDAR
VERSION:2.0
PRODID:Imitheme.com 
BEGIN:VEVENT
UID:20260422T162722704070151
DTSTAMP;TZID=UTC:2026-04-22 16:27:22
DTSTART;TZID=America/Los_Angeles:20260327T000000
DTEND;TZID=America/Los_Angeles:20260327T000000
SUMMARY:Taller de Fanzine: Històries de paper
LOCATION:Carrer de les Corralasses\, 9. Palma
DESCRIPTION:Històries de paper és un taller de creació gràfica on explicarem històries a través del dibuix per després construir un petit “fanzine” Explorarem eines bàsiques del dibuix narratiu i diferents tècniques gràfiques (retolador, collage, llapis, tinta), creant petites històries visuals amb estil propi que després reunirem per crear el nostre “fanzine”   INSCRIPCIONS
URL:https://espaisjoves.cat/eventer/taller-de-fanzine-histories-de-paper-2/
END:VEVENT
END:VCALENDAR
