BEGIN:VCALENDAR
VERSION:2.0
PRODID:Imitheme.com 
BEGIN:VEVENT
UID:20260422T031115813048146
DTSTAMP;TZID=UTC:2026-04-22 03:11:15
DTSTART;TZID=America/Los_Angeles:20260324T000000
DTEND;TZID=America/Los_Angeles:20260324T000000
SUMMARY:SINGING STUDIO
LOCATION:Carrer de Felip II\, 19. Palma
DESCRIPTION:Si tens entre 14 i 30 anys i t’agradaria aprendre a cantar o millorar la teva tècnica vocal, aquest taller és per a tu! T’oferim sessions contínues on podràs guanyar confiança, descobrir el teu potencial vocal i compartir l’experiència amb un petit grup de joves com tu.   INSCRIPCIONS
URL:https://espaisjoves.cat/eventer/singing-studio-13/
END:VEVENT
END:VCALENDAR
