BEGIN:VCALENDAR
VERSION:2.0
PRODID:Imitheme.com 
BEGIN:VEVENT
UID:20260421T1131481371590448
DTSTAMP;TZID=UTC:2026-04-21 11:31:48
DTSTART;TZID=America/Los_Angeles:20260313T000000
DTEND;TZID=America/Los_Angeles:20260313T000000
SUMMARY:TALLER DE COSTURA - HAORI
LOCATION:Carrer Pere d’Alcàntara Penya\, 10. Palma
DESCRIPTION:Aquesta primavera, crea un haori! Una jaqueta típica japonesa, versàtil i ideal per a l\'entretemps. En aquest taller, aprendràs a confeccionar-lo pas a pas amb ajuda d\'una tallerista professional. No hi fa falta experiència. Dona la benvinguda a la primavera creant una peça còmoda, atemporal i feta per tu     INSCRIPCIONS
URL:https://espaisjoves.cat/eventer/taller-de-costura-haori/
END:VEVENT
END:VCALENDAR
