BEGIN:VCALENDAR
VERSION:2.0
PRODID:Imitheme.com 
BEGIN:VEVENT
UID:20260421T223122877360024
DTSTAMP;TZID=UTC:2026-04-21 22:31:22
DTSTART;TZID=America/Los_Angeles:20260319T000000
DTEND;TZID=America/Los_Angeles:20260319T000000
SUMMARY:FRIENDS & GAMES
LOCATION:Carrer de Felip II\, 19. Palma
DESCRIPTION:Prepara’t per a una tarda plena de diversió i noves amistats! Vine al nostre horabaixa de jocs i gaudeix d’una experiència per riure, desconnectar i conèixer gent genial. INSCRIPCIONS      
URL:https://espaisjoves.cat/eventer/friends-games-23/
END:VEVENT
END:VCALENDAR
