BEGIN:VCALENDAR
VERSION:2.0
PRODID:Imitheme.com 
BEGIN:VEVENT
UID:20260421T1751242082934661
DTSTAMP;TZID=UTC:2026-04-21 17:51:24
DTSTART;TZID=America/Los_Angeles:20260314T000000
DTEND;TZID=America/Los_Angeles:20260314T000000
SUMMARY:ONE SHOT: ESPECIAL 8M
LOCATION:Carrer Pere d’Alcàntara Penya\, 10. Palma
DESCRIPTION:AUn calze diví va ser el que va bastar per a enderrocar el regne d\'Otah. La seva ubicació? Tan sols la difunta reina ho sap. La vostra missió? Trobar la seva tomba abans que l\'artefacte caigui en altres mans.   INSCRIPCIONS
URL:https://espaisjoves.cat/eventer/one-shot-especial-8m/
END:VEVENT
END:VCALENDAR
