BEGIN:VCALENDAR
VERSION:2.0
PRODID:Imitheme.com 
BEGIN:VEVENT
UID:20260421T1609312105113107
DTSTAMP;TZID=UTC:2026-04-21 16:09:31
DTSTART;TZID=America/Los_Angeles:20260314T000000
DTEND;TZID=America/Los_Angeles:20260314T000000
SUMMARY:WRITING LAB: ESCRIPTURA CREATIVA
LOCATION:Carrer de Felip II\, 19. Palma
DESCRIPTION:Ja és hora de donar-li vida allò que tens en el cap! Deixa volar la imaginació, desbloqueja idees i descobreix la teva veu narrativa. A través d’exercicis creatius i dinàmics, aprendràs a donar forma a històries, personatges i mons propis, sense normes. No cal experiència prèvia: només ganes d’escriure i il·lusió.   INSCRIPCIONS
URL:https://espaisjoves.cat/eventer/writing-lab-escriptura-creativa-2/
END:VEVENT
END:VCALENDAR
