BEGIN:VCALENDAR
VERSION:2.0
PRODID:Imitheme.com 
BEGIN:VEVENT
UID:20260421T1432221674031886
DTSTAMP;TZID=UTC:2026-04-21 14:32:22
DTSTART;TZID=America/Los_Angeles:20260314T000000
DTEND;TZID=America/Los_Angeles:20260314T000000
SUMMARY:TALLER DE GRANADURES DE FLORS
LOCATION:Carrer de Diego Zaforteza\, 7
DESCRIPTION:Aquesta primavera fes florir la teva creativitat. Vine a passar una estona creativa i aprèn a transformar flors reals en granadures úniques fetes per tu. Un pla perfecte per a celebrar la primavera, desconnectar i endur-te a casa una peça plena de naturalesa i significat. No hi fa falta experiència!   INSCRIPCIONS
URL:https://espaisjoves.cat/eventer/taller-de-granadures-de-flors/
END:VEVENT
END:VCALENDAR
