BEGIN:VCALENDAR
VERSION:2.0
PRODID:Imitheme.com 
BEGIN:VEVENT
UID:20260422T2324091918912689
DTSTAMP;TZID=UTC:2026-04-22 23:24:09
DTSTART;TZID=America/Los_Angeles:20260530T000000
DTEND;TZID=America/Los_Angeles:20260530T000000
SUMMARY:MAY BE FREAK
LOCATION:Carrer Pere d’Alcàntara Penya\, 10. Palma
DESCRIPTION:L’Espai Llevant es transforma per a celebrar l’Orgull Friki amb un horabaixa dedicat a la cultura geek en totes les seves formes. Durant l’esdeveniment, cada racó de l’espai estarà ple d’activitats temàtiques: zona ludoteca, zona K-pop, bubble tea, cosplay i zona d’art, entre moltes altres. Totes pensades per a joves aficionats a l’anime, el manga, els videojocs, la fantasia i tot allò relacionat amb el món friki. 📍Tota l’activitat es desenvoluparà a l’ Espai Llevant. 🗓️ Dia 30 de maig. 🕛 A les 17h. ✨ Entrada gratuïta. No importa si vens a jugar, crear o simplement gaudir: aquest dia està fet per a tu! INSCRIPCIONS    
URL:https://espaisjoves.cat/eventer/may-be-freak-3/
END:VEVENT
END:VCALENDAR
