BEGIN:VCALENDAR
VERSION:2.0
PRODID:Imitheme.com 
BEGIN:VEVENT
UID:20260422T2329271386755103
DTSTAMP;TZID=UTC:2026-04-22 23:29:27
DTSTART;TZID=America/Los_Angeles:20260523T000000
DTEND;TZID=America/Los_Angeles:20260523T000000
SUMMARY:HORABAIXA DE JOCS: PROVA EL BILLAR INDI
LOCATION:Carrer de Diego Zaforteza\, 7
DESCRIPTION:T’atreveixes a provar el billar indi? Vine a passar un capvespre diferent ple de jocs! Descobreix com s’hi juga, desafia els teus amics i coneix altres joves mentre t’ho passes genial. Risc mínim, diversió garantida! INSCRIPCIONS      
URL:https://espaisjoves.cat/eventer/horabaixa-de-jocs-prova-el-billar-indi/
END:VEVENT
END:VCALENDAR
