BEGIN:VCALENDAR
VERSION:2.0
PRODID:Imitheme.com 
BEGIN:VEVENT
UID:20260422T232353626266261
DTSTAMP;TZID=UTC:2026-04-22 23:23:53
DTSTART;TZID=America/Los_Angeles:20260522T000000
DTEND;TZID=America/Los_Angeles:20260522T000000
SUMMARY:INICIACIÓ AL COMIC
LOCATION:Carrer de Diego Zaforteza\, 7
DESCRIPTION:Vols aprendre les bases per crear un còmic? Vine al nostre taller i aprèn tot el necessari per començar des de zero. INSCRIPCIONS      
URL:https://espaisjoves.cat/eventer/iniciacio-al-comic/
END:VEVENT
END:VCALENDAR
