BEGIN:VCALENDAR
VERSION:2.0
PRODID:Imitheme.com 
BEGIN:VEVENT
UID:20260422T2328062141510037
DTSTAMP;TZID=UTC:2026-04-22 23:28:06
DTSTART;TZID=America/Los_Angeles:20260522T000000
DTEND;TZID=America/Los_Angeles:20260522T000000
SUMMARY:TALLER DE COSTURA - BOSSA GEEK
LOCATION:Carrer Pere d’Alcàntara Penya\, 10. Palma
DESCRIPTION:Dissenya la teva pròpia bossa geek per a celebrar l’Orgull Friki. En aquest taller crearàs una bossa amb temàtica friki inspirada en videojocs, anime, ciència-ficció o fantasia, mentre aprens a cosir pas a pas. Una activitat creativa per a joves on compartir idees i donar forma a un accessori únic. Prepara el teu equipament friki INSCRIPCIONS      
URL:https://espaisjoves.cat/eventer/taller-de-costura-bossa-geek/
END:VEVENT
END:VCALENDAR
