BEGIN:VCALENDAR
VERSION:2.0
PRODID:Imitheme.com 
BEGIN:VEVENT
UID:20260422T23301736277058
DTSTAMP;TZID=UTC:2026-04-22 23:30:17
DTSTART;TZID=America/Los_Angeles:20260520T000000
DTEND;TZID=America/Los_Angeles:20260520T000000
SUMMARY:MENJA’T EL MÓN: CUINA DE JAPÓ
LOCATION:Carrer de Felip II\, 19. Palma
DESCRIPTION:Continuam el cicle de cuina, on podreu aprendre diferents receptes típiques de cada regió del nostre món. Si vols iniciar-te a la cuina o guanyar-hi experiència per a impressionar els teus coneguts, aquest taller és per a tu. INSCRIPCIONS      
URL:https://espaisjoves.cat/eventer/menjat-el-mon-cuina-de-japo/
END:VEVENT
END:VCALENDAR
