BEGIN:VCALENDAR
VERSION:2.0
PRODID:Imitheme.com 
BEGIN:VEVENT
UID:20260422T2329451957076621
DTSTAMP;TZID=UTC:2026-04-22 23:29:45
DTSTART;TZID=America/Los_Angeles:20260529T000000
DTEND;TZID=America/Los_Angeles:20260529T000000
SUMMARY:INVASIÓ ALS ESPAIS JOVES - JOC DE ROL
LOCATION:Carrer Pere d’Alcàntara Penya\, 10. Palma
DESCRIPTION:Un concert. Espais Joves a rebentar. I una cançó que no acaba. La teva mirada es veu envaïda per l’apocalipsi i Raquel jeu als teus peus. Canviaràs la guitarra per un instrument més contundent? Gaudeix d’aquesta partida de rol ràpida basada en una invasió apocalíptica als Espais Joves. T’atreveixes a jugar-hi? INSCRIPCIONS      
URL:https://espaisjoves.cat/eventer/invasio-als-espais-joves-joc-de-rol/
END:VEVENT
END:VCALENDAR
