BEGIN:VCALENDAR
VERSION:2.0
PRODID:Imitheme.com 
BEGIN:VEVENT
UID:20260422T23240368591775
DTSTAMP;TZID=UTC:2026-04-22 23:24:03
DTSTART;TZID=America/Los_Angeles:20260529T000000
DTEND;TZID=America/Los_Angeles:20260529T000000
SUMMARY:Taller: Marxandatge
LOCATION:Carrer de Diego Zaforteza\, 7
DESCRIPTION:Vols donar imatge al teu grup? En aquest taller podràs crear el teu propi marxandatge: xapes, adhesius i bosses de tela o necessers amb el vostre logotip. Apunta-t\'hi i dona vida a la imatge del teu grup! INSCRIPCIONS      
URL:https://espaisjoves.cat/eventer/taller-marxandatge-2/
END:VEVENT
END:VCALENDAR
