BEGIN:VCALENDAR
VERSION:2.0
PRODID:Imitheme.com 
BEGIN:VEVENT
UID:20260422T2328121957668733
DTSTAMP;TZID=UTC:2026-04-22 23:28:12
DTSTART;TZID=America/Los_Angeles:20260528T000000
DTEND;TZID=America/Los_Angeles:20260528T000000
SUMMARY:DANCE LAB: BACHATA
LOCATION:Carrer Pere d’Alcàntara Penya\, 10. Palma
DESCRIPTION:Si dus el ritme a la sang, vine a demostrar-ho als Espais Joves! Al nostre LAB DANCE: BACHATA d’aquest mes, podràs gaudir d’un horabaixa intens i divertit de ball. Apunta-t’hi; tenim places limitades! INSCRIPCIONS      
URL:https://espaisjoves.cat/eventer/dance-lab-bachata/
END:VEVENT
END:VCALENDAR
