BEGIN:VCALENDAR
VERSION:2.0
PRODID:Imitheme.com 
BEGIN:VEVENT
UID:20260422T232353610724940
DTSTAMP;TZID=UTC:2026-04-22 23:23:53
DTSTART;TZID=America/Los_Angeles:20260527T000000
DTEND;TZID=America/Los_Angeles:20260527T000000
SUMMARY:NEEDLE FELTING D’STUDIO GHIBLI
LOCATION:Carrer de les Corralasses\, 9. Palma
DESCRIPTION:Vols aprendre a fer figures amb llana i agulla? En aquesta tècnica senzilla t’explicam com! INSCRIPCIONS      
URL:https://espaisjoves.cat/eventer/needle-felting-dstudio-ghibli-2/
END:VEVENT
END:VCALENDAR
