BEGIN:VCALENDAR
VERSION:2.0
PRODID:Imitheme.com 
BEGIN:VEVENT
UID:20260422T2323461730988836
DTSTAMP;TZID=UTC:2026-04-22 23:23:46
DTSTART;TZID=America/Los_Angeles:20260526T000000
DTEND;TZID=America/Los_Angeles:20260526T000000
SUMMARY:INICIACIÓ AL COMIC
LOCATION:Carrer de Felip II\, 19. Palma
DESCRIPTION:Vols aprendre les bases per crear un còmic? Vine al nostre taller i aprèn tot el necessari per començar des de zero. INSCRIPCIONS      
URL:https://espaisjoves.cat/eventer/iniciacio-al-comic-2/
END:VEVENT
END:VCALENDAR
