BEGIN:VCALENDAR
VERSION:2.0
PRODID:Imitheme.com 
BEGIN:VEVENT
UID:20260422T085807284612120
DTSTAMP;TZID=UTC:2026-04-22 08:58:07
DTSTART;TZID=America/Los_Angeles:20260512T000000
DTEND;TZID=America/Los_Angeles:20260512T000000
SUMMARY:CLOWN Lab: Taller d’iniciació al clown
LOCATION:Carrer Pere d’Alcàntara Penya\, 10. Palma
DESCRIPTION:Vols descobrir el teu clown? Et convidam a participar a Clown Lab, un taller per explorar la creativitat, l’humor i l’expressió escènica a través del joc. Treballarem la presència, l’expressió corporal i la relació amb el públic, convertint l’error i la ingenuïtat en motors de comicitat. No cal experiència prèvia: només ganes de jugar, experimentar i riure plegats. INSCRIPCIONS      
URL:https://espaisjoves.cat/eventer/clown-lab-taller-diniciacio-al-clown-2/
END:VEVENT
END:VCALENDAR
