BEGIN:VCALENDAR
VERSION:2.0
PRODID:Imitheme.com 
BEGIN:VEVENT
UID:20260422T2325141225307849
DTSTAMP;TZID=UTC:2026-04-22 23:25:14
DTSTART;TZID=America/Los_Angeles:20260519T000000
DTEND;TZID=America/Los_Angeles:20260519T000000
SUMMARY:GUITARRA DES DE ZERO
LOCATION:Carrer Pere d’Alcàntara Penya\, 10. Palma
DESCRIPTION:Sempre has volgut tocar la guitarra, però no saps per on començar? Aquesta és la teva oportunitat! Uneix-te al nostre taller d\'iniciació amb el professional Fabrizio Licata i descobreix com tocar els teus primers acords d\'una manera dinàmica i divertida. No hi cal experiència, només ganes d\'aprendre i la teva guitarra. Un espai per a joves on la música, la creativitat i el bon rotllo es troben. Vine i comença la teva aventura musical! Requisits: dur la teva guitarra (acústica o espanyola). INSCRIPCIONS      
URL:https://espaisjoves.cat/eventer/guitarra-des-de-zero-4/
END:VEVENT
END:VCALENDAR
