BEGIN:VCALENDAR
VERSION:2.0
PRODID:Imitheme.com 
BEGIN:VEVENT
UID:20260422T2313351182720210
DTSTAMP;TZID=UTC:2026-04-22 23:13:35
DTSTART;TZID=America/Los_Angeles:20260516T000000
DTEND;TZID=America/Los_Angeles:20260516T000000
SUMMARY:ESPAIS JOVES SESSIONS VOL. 7: The Next Stop
LOCATION:Carrer de Felip II\, 19. Palma
DESCRIPTION:Dissabte, dia 16, a les 18.30 h, arriba el volum 7 d’Espais Joves Sessions amb el grup The Next Stop. Una banda de sis joves ambiciosos que comparteixen el somni de crear un gènere musical propi, fusionant estils i aportant cadascun la seva identitat per construir un so únic i innovador. En aquestes sessions podreu gaudir de: - Concerts de 20 minuts en un ambient íntim i pròxim. - Un espai decorat pels mateixos grups, que reflecteix la seva identitat artística. - Un ambient increïble on joves com tu venen a compartir la passió per la música. Vine a l’Espai Tramuntana i forma part d’aquesta experiència. No t’ho pots perdre!     INSCRIPCIONS
URL:https://espaisjoves.cat/eventer/espais-joves-sessions-vol-7-the-next-stop/
END:VEVENT
END:VCALENDAR
