BEGIN:VCALENDAR
VERSION:2.0
PRODID:Imitheme.com 
BEGIN:VEVENT
UID:20260422T2316491209952290
DTSTAMP;TZID=UTC:2026-04-22 23:16:49
DTSTART;TZID=America/Los_Angeles:20260515T000000
DTEND;TZID=America/Los_Angeles:20260515T000000
SUMMARY:WRITING LAB: ESCRIPTURA CREATIVA
LOCATION:Carrer de Felip II\, 19. Palma
DESCRIPTION:Ja és hora de donar-li vida allò que tens en el cap! Deixa volar la imaginació, desbloqueja idees i descobreix la teva veu narrativa. A través d’exercicis creatius i dinàmics, aprendràs a donar forma a històries, personatges i mons propis, sense normes. No cal experiència prèvia: només ganes d’escriure i il·lusió.     INSCRIPCIONS
URL:https://espaisjoves.cat/eventer/writing-lab-escriptura-creativa-4/
END:VEVENT
END:VCALENDAR
