BEGIN:VCALENDAR
VERSION:2.0
PRODID:Imitheme.com 
BEGIN:VEVENT
UID:20260422T2314512075897576
DTSTAMP;TZID=UTC:2026-04-22 23:14:51
DTSTART;TZID=America/Los_Angeles:20260514T000000
DTEND;TZID=America/Los_Angeles:20260514T000000
SUMMARY:FRIENDS & GAMES
LOCATION:Carrer de Diego Zaforteza\, 7
DESCRIPTION:Prepara’t per a una tarda plena de diversió i noves amistats! Vine al nostre horabaixa de jocs i gaudeix d’una experiència per riure, desconnectar i conèixer gent genial. INSCRIPCIONS      
URL:https://espaisjoves.cat/eventer/friends-games-30/
END:VEVENT
END:VCALENDAR
