BEGIN:VCALENDAR
VERSION:2.0
PRODID:Imitheme.com 
BEGIN:VEVENT
UID:20260422T012142470489159
DTSTAMP;TZID=UTC:2026-04-22 01:21:42
DTSTART;TZID=America/Los_Angeles:20260502T000000
DTEND;TZID=America/Los_Angeles:20260502T000000
SUMMARY:FILS, AGULLES I FRIKISME - TROBADA DE COSTURA
LOCATION:Carrer Pere d’Alcàntara Penya\, 10. Palma
DESCRIPTION:Prepara el teu cosplay per a l’Orgull Friki a l’Espai Llevant! Vine al nostre espai de costura i dona forma al teu personatge favorit: cus, arregla o millora el teu outfit més geek. A més també podràs compartir idees amb altres persones fans del cosplay. Que l’agulla t’acompanyi! INSCRIPCIONS      
URL:https://espaisjoves.cat/eventer/fils-agulles-i-frikisme-trobada-de-costura/
END:VEVENT
END:VCALENDAR
