BEGIN:VCALENDAR
VERSION:2.0
PRODID:Imitheme.com 
BEGIN:VEVENT
UID:20260422T071714580015611
DTSTAMP;TZID=UTC:2026-04-22 07:17:14
DTSTART;TZID=America/Los_Angeles:20260509T000000
DTEND;TZID=America/Los_Angeles:20260509T000000
SUMMARY:REUNIÓ COL·LABORADORS: ORGULL JOVE 2026
LOCATION:Carrer Pere d’Alcàntara Penya\, 10. Palma
DESCRIPTION:Tens ganes de ajudar-mos a preparar l’Orgull Jove 2026? Siguis un grup de música, ball, un artista plàstic o tinguis ganes de realitzar una iniciativa t’esperam per preparar l’Orgull! INSCRIPCIONS      
URL:https://espaisjoves.cat/eventer/reunio-col%c2%b7laboradors-orgull-jove-2026/
END:VEVENT
END:VCALENDAR
