BEGIN:VCALENDAR
VERSION:2.0
PRODID:Imitheme.com 
BEGIN:VEVENT
UID:20260422T054713680958706
DTSTAMP;TZID=UTC:2026-04-22 05:47:13
DTSTART;TZID=America/Los_Angeles:20260509T000000
DTEND;TZID=America/Los_Angeles:20260509T000000
SUMMARY:COOK & EAT:  HOTTEOK
LOCATION:Carrer de Diego Zaforteza\, 7
DESCRIPTION:Si t’agrada la cuina i vols conèixer persones amb els teus mateixos interessos, aquesta és la teva! El mes de maig tornam amb Cook & Eat, on podràs gaudir de l’experiència gastronòmica. INSCRIPCIONS      
URL:https://espaisjoves.cat/eventer/cook-eat-hotteok/
END:VEVENT
END:VCALENDAR
