BEGIN:VCALENDAR
VERSION:2.0
PRODID:Imitheme.com 
BEGIN:VEVENT
UID:20260422T0421421323587382
DTSTAMP;TZID=UTC:2026-04-22 04:21:42
DTSTART;TZID=America/Los_Angeles:20260508T000000
DTEND;TZID=America/Los_Angeles:20260508T000000
SUMMARY:TALLER DE COSTURA DE SUPERVIVÈNCIA
LOCATION:Carrer de les Corralasses\, 9. Palma
DESCRIPTION:T’ha caigut un botó? Tens una peça descosida i no saps com arreglar-la? Arriba aquest taller per a aprendre els bàsics de la costura a mà i resoldre petits arranjaments de roba de manera pràctica i senzilla. Una activitat pensada per a joves que vulguin adquirir habilitats útils mentre comparteixen una estona creativa. Cosir i cantar, tot és començar! INSCRIPCIONS      
URL:https://espaisjoves.cat/eventer/taller-de-costura-de-supervivencia/
END:VEVENT
END:VCALENDAR
