BEGIN:VCALENDAR
VERSION:2.0
PRODID:Imitheme.com 
BEGIN:VEVENT
UID:20260421T143400487724565
DTSTAMP;TZID=UTC:2026-04-21 14:34:00
DTSTART;TZID=America/Los_Angeles:20250821T000000
DTEND;TZID=America/Los_Angeles:20250821T000000
SUMMARY:TALLER DE BIJUTERIA AMB AVALORIS RECICLATS
LOCATION:Carrer de Diego Zaforteza\, 7
DESCRIPTION:Apunta’t al taller de bijuteria i descobreix com transformar peces antigues en arracades originals. T’hi esperam per a passar una bona estona i deixar volar la creativitat!     INSCRIPCIONS
URL:https://espaisjoves.cat/eventer/taller-de-bijuteria-amb-avaloris-reciclats/
END:VEVENT
END:VCALENDAR
