BEGIN:VCALENDAR
VERSION:2.0
PRODID:Imitheme.com 
BEGIN:VEVENT
UID:20260421T124738949084870
DTSTAMP;TZID=UTC:2026-04-21 12:47:38
DTSTART;TZID=America/Los_Angeles:20250828T000000
DTEND;TZID=America/Los_Angeles:20250828T000000
SUMMARY:TALLER DE COSTURA - UPCYCLING DE CAMISES
LOCATION:Carrer Pere d’Alcàntara Penya\, 10. Palma
DESCRIPTION:Dona una nova vida a les teves camises! Vine al nostre taller de costura d’upcycling i transforma camises velles en peces úniques, modernes i sostenibles. No cal tenir experiència, només ganes de crear i reutilitzar!     INSCRIPCIONS
URL:https://espaisjoves.cat/eventer/taller-de-costura-upcycling-de-camises/
END:VEVENT
END:VCALENDAR
