BEGIN:VCALENDAR
VERSION:2.0
PRODID:Imitheme.com 
BEGIN:VEVENT
UID:20260421T10151436108438
DTSTAMP;TZID=UTC:2026-04-21 10:15:14
DTSTART;TZID=America/Los_Angeles:20250827T000000
DTEND;TZID=America/Los_Angeles:20250827T000000
SUMMARY:Decora la teva roba: Llexiu i estampació
LOCATION:Carrer de Felip II\, 19. Palma
DESCRIPTION:Vols aprendre a pintar amb llexiu? Duu la teva camiseta i la resta ens ocupem nosaltres!     INSCRIPCIONS
URL:https://espaisjoves.cat/eventer/decora-la-teva-roba-llexiu-i-estampacio/
END:VEVENT
END:VCALENDAR
