BEGIN:VCALENDAR
VERSION:2.0
PRODID:Imitheme.com 
BEGIN:VEVENT
UID:20260421T1131381737689478
DTSTAMP;TZID=UTC:2026-04-21 11:31:38
DTSTART;TZID=America/Los_Angeles:20250826T000000
DTEND;TZID=America/Los_Angeles:20250826T000000
SUMMARY:IL·LUSTRACIÓ TRADICIONAL: RETRAT
LOCATION:Carrer de les Corralasses\, 9. Palma
DESCRIPTION:Vols aprendre a realitzar un retrat? A aquest curs aprendrem la tècnica amb carbonet i pastel sec.     INSCRIPCIONS
URL:https://espaisjoves.cat/eventer/il%c2%b7lustracio-tradicional-retrat/
END:VEVENT
END:VCALENDAR
